BEGIN:VCALENDAR
VERSION:2.0
PRODID:-//A.Gi.Mus. - Associazione Giovanile Musicale - ECPv6.15.11//NONSGML v1.0//EN
CALSCALE:GREGORIAN
METHOD:PUBLISH
X-ORIGINAL-URL:https://www.agimus.it
X-WR-CALDESC:Eventi per A.Gi.Mus. - Associazione Giovanile Musicale
REFRESH-INTERVAL;VALUE=DURATION:PT1H
X-Robots-Tag:noindex
X-PUBLISHED-TTL:PT1H
BEGIN:VTIMEZONE
TZID:Europe/Rome
BEGIN:DAYLIGHT
TZOFFSETFROM:+0100
TZOFFSETTO:+0200
TZNAME:CEST
DTSTART:20250330T010000
END:DAYLIGHT
BEGIN:STANDARD
TZOFFSETFROM:+0200
TZOFFSETTO:+0100
TZNAME:CET
DTSTART:20251026T010000
END:STANDARD
BEGIN:DAYLIGHT
TZOFFSETFROM:+0100
TZOFFSETTO:+0200
TZNAME:CEST
DTSTART:20260329T010000
END:DAYLIGHT
BEGIN:STANDARD
TZOFFSETFROM:+0200
TZOFFSETTO:+0100
TZNAME:CET
DTSTART:20261025T010000
END:STANDARD
BEGIN:DAYLIGHT
TZOFFSETFROM:+0100
TZOFFSETTO:+0200
TZNAME:CEST
DTSTART:20270328T010000
END:DAYLIGHT
BEGIN:STANDARD
TZOFFSETFROM:+0200
TZOFFSETTO:+0100
TZNAME:CET
DTSTART:20271031T010000
END:STANDARD
END:VTIMEZONE
BEGIN:VEVENT
DTSTART;TZID=Europe/Rome:20260306T180000
DTEND;TZID=Europe/Rome:20260306T190000
DTSTAMP:20260419T174119
CREATED:20260303T091811Z
LAST-MODIFIED:20260303T091816Z
UID:11582-1772820000-1772823600@www.agimus.it
SUMMARY:"RAGIONE E SENTIMENTO" Un viaggio sonoro
DESCRIPTION:“RAGIONE E SENTIMENTO” \nUn viaggio sonoro\n \nCecilia Popa Mare   Violino\nGiuseppe D’Elia   Pianoforte\n \nAndrea Brissa   Direttore artistico\n \n\n\n\n\n\nOrganizzatore:\n\n\n\nLuogo:
URL:https://www.agimus.it/evento/ragione-e-sentimento-un-viaggio-sonoro/
LOCATION:Auditorium Valentianum – Vibo Valentia\, 89900 Vibo Valentia VV\, Vibo Valentia\, VV\, 89900\, Italy
ATTACH;FMTTYPE=image/png:https://www.agimus.it/wp-content/uploads/2026/03/Vibo-06-03.png
END:VEVENT
BEGIN:VEVENT
DTSTART;TZID=Europe/Rome:20260306T180000
DTEND;TZID=Europe/Rome:20260306T190000
DTSTAMP:20260419T174119
CREATED:20260303T115919Z
LAST-MODIFIED:20260304T085806Z
UID:11601-1772820000-1772823600@www.agimus.it
SUMMARY:I VIRTUOSI DI SANT'AGNESE IN AGONE  "Le grandi Sinfonie"
DESCRIPTION:“LE GRANDI SINFONIE” \nLisa Francese  Pianoforte\nMarco Algenti  Violoncello\nMatteo Vicari  Guida all’ascolto\nMusiche di W.A. Mozart e L. van Beethoven \n\n\n\n\n\nOrganizzatore:\n\n\n\nLuogo:
URL:https://www.agimus.it/evento/i-virtuosi-di-santagnese-in-agone-le-grandi-sinfonie-31/
LOCATION:Sant’Agnese in Agone – Sagrestia del Borromini\, Via di Santa Maria dell'Anima\, 30/A\, Roma\, RM\, 00186
CATEGORIES:3 musicisti
ATTACH;FMTTYPE=image/jpeg:https://www.agimus.it/wp-content/uploads/2025/12/download-4.jpg
END:VEVENT
BEGIN:VEVENT
DTSTART;TZID=Europe/Rome:20260306T180000
DTEND;TZID=Europe/Rome:20260306T193000
DTSTAMP:20260419T174119
CREATED:20260303T094033Z
LAST-MODIFIED:20260303T094116Z
UID:11585-1772820000-1772825400@www.agimus.it
SUMMARY:"FOGLI D'ALBUM" Duo Violoncello-Pianoforte
DESCRIPTION:IBLA CLASSICA INTERNATIONAL\nXXII Stagione Concertistica 2026\n \n\n“FOGLI D’ALBUM” \nDuo Violoncello-Pianoforte\n \nEmanuela Zanghi   Violoncello\nMariaconcetta Rosa   Pianoforte\n \n \n \n\n\n\n\n\nOrganizzatore:\n\n\n\nLuogo:
URL:https://www.agimus.it/evento/fogli-dalbum-duo-violoncello-pianoforte/
LOCATION:Spazio cultura “Meno Assenza” – Pozzallo\, Corso Vittorio Veneto\, 341\, Pozzallo\, RG\, 97016\, Italy
CATEGORIES:1 musicista
ATTACH;FMTTYPE=image/jpeg:https://www.agimus.it/wp-content/uploads/2026/03/Ragusa-06-03.jpg
ORGANIZER;CN="Sezione di Ragusa":MAILTO:agimusragusa@gmail.com
END:VEVENT
END:VCALENDAR