BEGIN:VCALENDAR
VERSION:2.0
PRODID:-//A.Gi.Mus. - Associazione Giovanile Musicale - ECPv6.15.11//NONSGML v1.0//EN
CALSCALE:GREGORIAN
METHOD:PUBLISH
X-ORIGINAL-URL:https://www.agimus.it
X-WR-CALDESC:Eventi per A.Gi.Mus. - Associazione Giovanile Musicale
REFRESH-INTERVAL;VALUE=DURATION:PT1H
X-Robots-Tag:noindex
X-PUBLISHED-TTL:PT1H
BEGIN:VTIMEZONE
TZID:Europe/Rome
BEGIN:DAYLIGHT
TZOFFSETFROM:+0100
TZOFFSETTO:+0200
TZNAME:CEST
DTSTART:20250330T010000
END:DAYLIGHT
BEGIN:STANDARD
TZOFFSETFROM:+0200
TZOFFSETTO:+0100
TZNAME:CET
DTSTART:20251026T010000
END:STANDARD
BEGIN:DAYLIGHT
TZOFFSETFROM:+0100
TZOFFSETTO:+0200
TZNAME:CEST
DTSTART:20260329T010000
END:DAYLIGHT
BEGIN:STANDARD
TZOFFSETFROM:+0200
TZOFFSETTO:+0100
TZNAME:CET
DTSTART:20261025T010000
END:STANDARD
BEGIN:DAYLIGHT
TZOFFSETFROM:+0100
TZOFFSETTO:+0200
TZNAME:CEST
DTSTART:20270328T010000
END:DAYLIGHT
BEGIN:STANDARD
TZOFFSETFROM:+0200
TZOFFSETTO:+0100
TZNAME:CET
DTSTART:20271031T010000
END:STANDARD
END:VTIMEZONE
BEGIN:VEVENT
DTSTART;TZID=Europe/Rome:20260303T173000
DTEND;TZID=Europe/Rome:20260303T183000
DTSTAMP:20260419T174554
CREATED:20260224T190746Z
LAST-MODIFIED:20260225T112203Z
UID:11567-1772559000-1772562600@www.agimus.it
SUMMARY:CONFERENZA-CONCERTO  VIII Centenario della morte di S. Francesco d'Assisi
DESCRIPTION:Università per Stranieri e A.Gi.Mus. di Perugia51 anni insieme con i Giovani e per i Giovani\n\n \nItinerari Musicali 2026\n\nCONFERENZA-CONCERTO \nVIII Centenario della morte di S.Francesco d’Assisi\n \nStefano Ragni  Pianista e Relatore\n \nMusiche di F. Liszt\n\n\n\n\n\nOrganizzatore:\n\n\n\nLuogo:
URL:https://www.agimus.it/evento/conferenza-concerto-viii-centenario-della-morte-di-s-francesco-dassisi/
LOCATION:Aula Magna Università per Stranieri\, Piazza Braccio Fortebraccio\, 4\, Perugia\, PG\, 06123\, Italia
ATTACH;FMTTYPE=image/jpeg:https://www.agimus.it/wp-content/uploads/2026/02/Unistra-2026.03.03-WEB.jpg
END:VEVENT
END:VCALENDAR