BEGIN:VCALENDAR
VERSION:2.0
PRODID:-//A.Gi.Mus. - Associazione Giovanile Musicale - ECPv6.15.11//NONSGML v1.0//EN
CALSCALE:GREGORIAN
METHOD:PUBLISH
X-ORIGINAL-URL:https://www.agimus.it
X-WR-CALDESC:Eventi per A.Gi.Mus. - Associazione Giovanile Musicale
REFRESH-INTERVAL;VALUE=DURATION:PT1H
X-Robots-Tag:noindex
X-PUBLISHED-TTL:PT1H
BEGIN:VTIMEZONE
TZID:Europe/Rome
BEGIN:DAYLIGHT
TZOFFSETFROM:+0100
TZOFFSETTO:+0200
TZNAME:CEST
DTSTART:20250330T010000
END:DAYLIGHT
BEGIN:STANDARD
TZOFFSETFROM:+0200
TZOFFSETTO:+0100
TZNAME:CET
DTSTART:20251026T010000
END:STANDARD
BEGIN:DAYLIGHT
TZOFFSETFROM:+0100
TZOFFSETTO:+0200
TZNAME:CEST
DTSTART:20260329T010000
END:DAYLIGHT
BEGIN:STANDARD
TZOFFSETFROM:+0200
TZOFFSETTO:+0100
TZNAME:CET
DTSTART:20261025T010000
END:STANDARD
BEGIN:DAYLIGHT
TZOFFSETFROM:+0100
TZOFFSETTO:+0200
TZNAME:CEST
DTSTART:20270328T010000
END:DAYLIGHT
BEGIN:STANDARD
TZOFFSETFROM:+0200
TZOFFSETTO:+0100
TZNAME:CET
DTSTART:20271031T010000
END:STANDARD
END:VTIMEZONE
BEGIN:VEVENT
DTSTART;TZID=Europe/Rome:20260226T180000
DTEND;TZID=Europe/Rome:20260226T190000
DTSTAMP:20260421T121328
CREATED:20260223T110920Z
LAST-MODIFIED:20260225T111625Z
UID:11548-1772128800-1772132400@www.agimus.it
SUMMARY:CONCERTO SAX-PIANOFORTE
DESCRIPTION:GIOVANI IN MUSICA – VI Edizione\n \nCONCERTO SAX-PIANOFORTE\nSimone Serrotti   Sax\nFilippo Tronchi   Pianoforte \n \nMusiche\ndi Milhaud\, Bozza\, Iturralde\, Piazzola\, Tronchi\n\n\n\n\n\nOrganizzatore:\n\n\n\nLuogo:
URL:https://www.agimus.it/evento/concerto-sax-pianoforte/
LOCATION:Polo Bianciardi\, Piazza Stefano De Maria\, 31\, Grosseto\, GR\, 58100\, Italia
CATEGORIES:1 musicista
ATTACH;FMTTYPE=image/png:https://www.agimus.it/wp-content/uploads/2026/02/grosseto-26-02-new-1.png
ORGANIZER;CN="Sezione di Grosseto":MAILTO:gloriamazzi74@gmail.com
END:VEVENT
BEGIN:VEVENT
DTSTART;TZID=Europe/Rome:20260226T180000
DTEND;TZID=Europe/Rome:20260226T193000
DTSTAMP:20260421T121328
CREATED:20260218T094806Z
LAST-MODIFIED:20260218T094810Z
UID:11491-1772128800-1772134200@www.agimus.it
SUMMARY:"QUATTRO CORDE IN DIALOGO"
DESCRIPTION:IBLA CLASSICA INTERNATIONAL\nXXII Stagione Concertistica 2026\n \n\n“QUATTRO CORDE IN DIALOGO”\nQuartetto Ars Hyblaea\nSalvatore Lorefice   Violino\nFabrizio Scaparra   Violino\nFRancesco Nigro   Viola\nFrancesco Pupillo  Violoncello\n \n \n \n\n\n\n\n\nOrganizzatore:\n\n\n\nLuogo:
URL:https://www.agimus.it/evento/quattro-corde-in-dialogo/
LOCATION:Spazio cultura “Meno Assenza” – Pozzallo\, Corso Vittorio Veneto\, 341\, Pozzallo\, RG\, 97016\, Italy
CATEGORIES:1 musicista
ATTACH;FMTTYPE=image/jpeg:https://www.agimus.it/wp-content/uploads/2026/02/Ragusa-26-02.jpg
ORGANIZER;CN="Sezione di Ragusa":MAILTO:agimusragusa@gmail.com
END:VEVENT
END:VCALENDAR