BEGIN:VCALENDAR
VERSION:2.0
PRODID:-//A.Gi.Mus. - Associazione Giovanile Musicale - ECPv6.15.11//NONSGML v1.0//EN
CALSCALE:GREGORIAN
METHOD:PUBLISH
X-WR-CALNAME:A.Gi.Mus. - Associazione Giovanile Musicale
X-ORIGINAL-URL:https://www.agimus.it
X-WR-CALDESC:Eventi per A.Gi.Mus. - Associazione Giovanile Musicale
REFRESH-INTERVAL;VALUE=DURATION:PT1H
X-Robots-Tag:noindex
X-PUBLISHED-TTL:PT1H
BEGIN:VTIMEZONE
TZID:Europe/Rome
BEGIN:DAYLIGHT
TZOFFSETFROM:+0100
TZOFFSETTO:+0200
TZNAME:CEST
DTSTART:20240331T010000
END:DAYLIGHT
BEGIN:STANDARD
TZOFFSETFROM:+0200
TZOFFSETTO:+0100
TZNAME:CET
DTSTART:20241027T010000
END:STANDARD
BEGIN:DAYLIGHT
TZOFFSETFROM:+0100
TZOFFSETTO:+0200
TZNAME:CEST
DTSTART:20250330T010000
END:DAYLIGHT
BEGIN:STANDARD
TZOFFSETFROM:+0200
TZOFFSETTO:+0100
TZNAME:CET
DTSTART:20251026T010000
END:STANDARD
BEGIN:DAYLIGHT
TZOFFSETFROM:+0100
TZOFFSETTO:+0200
TZNAME:CEST
DTSTART:20260329T010000
END:DAYLIGHT
BEGIN:STANDARD
TZOFFSETFROM:+0200
TZOFFSETTO:+0100
TZNAME:CET
DTSTART:20261025T010000
END:STANDARD
END:VTIMEZONE
BEGIN:VEVENT
DTSTART;TZID=Europe/Rome:20250716T203000
DTEND;TZID=Europe/Rome:20250716T220000
DTSTAMP:20260424T145343
CREATED:20250711T080704Z
LAST-MODIFIED:20250711T080835Z
UID:10052-1752697800-1752703200@www.agimus.it
SUMMARY:CONCERTI IN CORTILE - Vino & Musica 2025
DESCRIPTION:CONCERTI IN CORTILE – Vino & Musica 2025\n \nLisa Francese  Pianoforte\nMarco Algenti  Violoncello\n \n \n\n\n\n\n\nOrganizzatore:\n\n\n\nLuogo:
URL:https://www.agimus.it/evento/concerti-in-cortile-vino-musica-2025-copy/
LOCATION:Palazzo Capponi Antonelli – Roma\, Via di Monserrato\, 34\,\, Roma\, RM\, 00186\, Italia
CATEGORIES:4 musicisti
ATTACH;FMTTYPE=image/jpeg:https://www.agimus.it/wp-content/uploads/2025/06/Roma-urbis-luglio.jpeg
END:VEVENT
BEGIN:VEVENT
DTSTART;TZID=Europe/Rome:20250716T211500
DTEND;TZID=Europe/Rome:20250716T231500
DTSTAMP:20260424T145343
CREATED:20250715T135202Z
LAST-MODIFIED:20250715T135222Z
UID:10086-1752700500-1752707700@www.agimus.it
SUMMARY:PAESI IN MUSICA A ROCCASTRADA "Trio Summit"
DESCRIPTION:PAESI IN MUSICA A ROCCASTRADA\nEstate 2025\n \n“Trio Summit” \nClaudio Cavalieri Violino\nRiccardo Guazzini  Sassofono\nGloria Mazzi  Pianoforte\n \n\n\n \n\n \n \n\n\n\n\n\nOrganizzatore:\n\n\n\nLuogo:
URL:https://www.agimus.it/evento/paesi-in-musica-a-roccastrada-trio-summit/
LOCATION:Castello di Torniella\, Vicolo del Castello\, Torniella\, GR\, 58036\, Italy
CATEGORIES:4 musicisti
ATTACH;FMTTYPE=image/jpeg:https://www.agimus.it/wp-content/uploads/2025/07/IMG-20250708-WA0033.jpg
ORGANIZER;CN="Sezione di Grosseto":MAILTO:gloriamazzi74@gmail.com
END:VEVENT
END:VCALENDAR