BEGIN:VCALENDAR
VERSION:2.0
PRODID:-//A.Gi.Mus. - Associazione Giovanile Musicale - ECPv6.15.11//NONSGML v1.0//EN
CALSCALE:GREGORIAN
METHOD:PUBLISH
X-WR-CALNAME:A.Gi.Mus. - Associazione Giovanile Musicale
X-ORIGINAL-URL:https://www.agimus.it
X-WR-CALDESC:Eventi per A.Gi.Mus. - Associazione Giovanile Musicale
REFRESH-INTERVAL;VALUE=DURATION:PT1H
X-Robots-Tag:noindex
X-PUBLISHED-TTL:PT1H
BEGIN:VTIMEZONE
TZID:Europe/Rome
BEGIN:DAYLIGHT
TZOFFSETFROM:+0100
TZOFFSETTO:+0200
TZNAME:CEST
DTSTART:20240331T010000
END:DAYLIGHT
BEGIN:STANDARD
TZOFFSETFROM:+0200
TZOFFSETTO:+0100
TZNAME:CET
DTSTART:20241027T010000
END:STANDARD
BEGIN:DAYLIGHT
TZOFFSETFROM:+0100
TZOFFSETTO:+0200
TZNAME:CEST
DTSTART:20250330T010000
END:DAYLIGHT
BEGIN:STANDARD
TZOFFSETFROM:+0200
TZOFFSETTO:+0100
TZNAME:CET
DTSTART:20251026T010000
END:STANDARD
BEGIN:DAYLIGHT
TZOFFSETFROM:+0100
TZOFFSETTO:+0200
TZNAME:CEST
DTSTART:20260329T010000
END:DAYLIGHT
BEGIN:STANDARD
TZOFFSETFROM:+0200
TZOFFSETTO:+0100
TZNAME:CET
DTSTART:20261025T010000
END:STANDARD
END:VTIMEZONE
BEGIN:VEVENT
DTSTART;TZID=Europe/Rome:20250711T180000
DTEND;TZID=Europe/Rome:20250711T190000
DTSTAMP:20260422T030139
CREATED:20250704T084501Z
LAST-MODIFIED:20250704T084522Z
UID:10017-1752256800-1752260400@www.agimus.it
SUMMARY:I VIRTUOSI DI SANT'AGNESE IN AGONE  "Vivaldi"
DESCRIPTION:“VIVALDI”\n \nLisa Francese  Pianoforte\nMarco Algenti  Violoncello\nMatteo Vicari  Guida all’ascolto\n \n \n\n\n\n\n\nOrganizzatore:\n\n\n\nLuogo:
URL:https://www.agimus.it/evento/i-virtuosi-di-santagnese-in-agone-vivaldi-32/
LOCATION:Sant’Agnese in Agone – Sagrestia del Borromini\, Via di Santa Maria dell'Anima\, 30/A\, Roma\, RM\, 00186
CATEGORIES:4 musicisti
ATTACH;FMTTYPE=image/jpeg:https://www.agimus.it/wp-content/uploads/2024/10/01-Vivaldi.jpg
END:VEVENT
BEGIN:VEVENT
DTSTART;TZID=Europe/Rome:20250711T180000
DTEND;TZID=Europe/Rome:20250711T190000
DTSTAMP:20260422T030139
CREATED:20250708T093905Z
LAST-MODIFIED:20250711T080229Z
UID:10037-1752256800-1752260400@www.agimus.it
SUMMARY:DUO DI CHITARRA
DESCRIPTION:Centenario di fondazione dell’Università per Stranieri di Perugia \nUniversità per Stranieri e A.Gi.Mus. di Perugia \n50 anni insieme con i Giovani e per i Giovani \n \nDuo di chitarra \nStefano Falleri   \nAlessandro Zucchetti   \n \n \n\n\n\n\n\nOrganizzatore:\n\n\n\nLuogo:
URL:https://www.agimus.it/evento/duo-clarinetto-chitarra/
LOCATION:Aula Magna Università per Stranieri\, Piazza Braccio Fortebraccio\, 4\, Perugia\, PG\, 06123\, Italia
CATEGORIES:2 musicisti
ATTACH;FMTTYPE=image/jpeg:https://www.agimus.it/wp-content/uploads/2025/07/Unistra-2025.07.11-Locandina-WEB-1.jpg
END:VEVENT
END:VCALENDAR