BEGIN:VCALENDAR
VERSION:2.0
PRODID:-//A.Gi.Mus. - Associazione Giovanile Musicale - ECPv6.15.11//NONSGML v1.0//EN
CALSCALE:GREGORIAN
METHOD:PUBLISH
X-WR-CALNAME:A.Gi.Mus. - Associazione Giovanile Musicale
X-ORIGINAL-URL:https://www.agimus.it
X-WR-CALDESC:Eventi per A.Gi.Mus. - Associazione Giovanile Musicale
REFRESH-INTERVAL;VALUE=DURATION:PT1H
X-Robots-Tag:noindex
X-PUBLISHED-TTL:PT1H
BEGIN:VTIMEZONE
TZID:Europe/Rome
BEGIN:DAYLIGHT
TZOFFSETFROM:+0100
TZOFFSETTO:+0200
TZNAME:CEST
DTSTART:20240331T010000
END:DAYLIGHT
BEGIN:STANDARD
TZOFFSETFROM:+0200
TZOFFSETTO:+0100
TZNAME:CET
DTSTART:20241027T010000
END:STANDARD
BEGIN:DAYLIGHT
TZOFFSETFROM:+0100
TZOFFSETTO:+0200
TZNAME:CEST
DTSTART:20250330T010000
END:DAYLIGHT
BEGIN:STANDARD
TZOFFSETFROM:+0200
TZOFFSETTO:+0100
TZNAME:CET
DTSTART:20251026T010000
END:STANDARD
BEGIN:DAYLIGHT
TZOFFSETFROM:+0100
TZOFFSETTO:+0200
TZNAME:CEST
DTSTART:20260329T010000
END:DAYLIGHT
BEGIN:STANDARD
TZOFFSETFROM:+0200
TZOFFSETTO:+0100
TZNAME:CET
DTSTART:20261025T010000
END:STANDARD
END:VTIMEZONE
BEGIN:VEVENT
DTSTART;TZID=Europe/Rome:20250710T210000
DTEND;TZID=Europe/Rome:20250710T223000
DTSTAMP:20260421T235244
CREATED:20250630T093621Z
LAST-MODIFIED:20250630T093640Z
UID:9994-1752181200-1752186600@www.agimus.it
SUMMARY:"InCanto d'Estate 2025"  IMPRESSIONI DI FRANCIA E SPAGNA
DESCRIPTION:InCanto d’Estate 2025\nI concerti Estivi di A.Gi.Mus Firenze\n \nIMPRESSIONI DI FRANCIA E SPAGNA\nTullio Zorzet Violoncello\nHelga Anna Pisapia  Pianoforte\n \nMusiche di E. Satie\, G. Fauré\, C. Debussy\, C. Saint-Saëns\, M. Ravel\, E. Granados\n\n\n\n\n\nOrganizzatore:\n\n\n\nLuogo:
URL:https://www.agimus.it/evento/incanto-destate-2025-impressioni-di-francia-e-spagna/
LOCATION:Chiesa Parrocchiale di S. Maria a Novoli\, Via Lippi e Macia\, 10\, Firenze\, FI\, 50127\, Italia
CATEGORIES:2 musicisti
ATTACH;FMTTYPE=image/png:https://www.agimus.it/wp-content/uploads/2025/06/5.-10.07-720x900-1.png
END:VEVENT
BEGIN:VEVENT
DTSTART;TZID=Europe/Rome:20250710T213000
DTEND;TZID=Europe/Rome:20250710T223000
DTSTAMP:20260421T235244
CREATED:20250702T143745Z
LAST-MODIFIED:20250710T142140Z
UID:10007-1752183000-1752186600@www.agimus.it
SUMMARY:NOTE AL CHIARO DI LUNA  Sofia Agosta - Arpa
DESCRIPTION:NOTE AL CHIARO DI LUNA \n“Sulle orme di…San Guglielmo” \n \nSofia Agosta  Arpa\nM° Gloria Mazzi  Direttore artistico\n\n \n\n \n \n\n\n\n\n\nOrganizzatore:\n\n\n\nLuogo:
URL:https://www.agimus.it/evento/note-al-chiaro-di-luna-2/
LOCATION:Museo Casa Rossa Ximenes\, Via Casa Rossa Ximenes\,\, Castiglione della Pescaia\, GR\, 58043\, Italia
CATEGORIES:4 musicisti
ATTACH;FMTTYPE=image/jpeg:https://www.agimus.it/wp-content/uploads/2025/07/518422700_1302822651849238_6805303969430097480_n.jpg
ORGANIZER;CN="Sezione di Grosseto":MAILTO:gloriamazzi74@gmail.com
END:VEVENT
END:VCALENDAR