BEGIN:VCALENDAR
VERSION:2.0
PRODID:-//A.Gi.Mus. - Associazione Giovanile Musicale - ECPv6.15.11//NONSGML v1.0//EN
CALSCALE:GREGORIAN
METHOD:PUBLISH
X-WR-CALNAME:A.Gi.Mus. - Associazione Giovanile Musicale
X-ORIGINAL-URL:https://www.agimus.it
X-WR-CALDESC:Eventi per A.Gi.Mus. - Associazione Giovanile Musicale
REFRESH-INTERVAL;VALUE=DURATION:PT1H
X-Robots-Tag:noindex
X-PUBLISHED-TTL:PT1H
BEGIN:VTIMEZONE
TZID:Europe/Rome
BEGIN:DAYLIGHT
TZOFFSETFROM:+0100
TZOFFSETTO:+0200
TZNAME:CEST
DTSTART:20240331T010000
END:DAYLIGHT
BEGIN:STANDARD
TZOFFSETFROM:+0200
TZOFFSETTO:+0100
TZNAME:CET
DTSTART:20241027T010000
END:STANDARD
BEGIN:DAYLIGHT
TZOFFSETFROM:+0100
TZOFFSETTO:+0200
TZNAME:CEST
DTSTART:20250330T010000
END:DAYLIGHT
BEGIN:STANDARD
TZOFFSETFROM:+0200
TZOFFSETTO:+0100
TZNAME:CET
DTSTART:20251026T010000
END:STANDARD
BEGIN:DAYLIGHT
TZOFFSETFROM:+0100
TZOFFSETTO:+0200
TZNAME:CEST
DTSTART:20260329T010000
END:DAYLIGHT
BEGIN:STANDARD
TZOFFSETFROM:+0200
TZOFFSETTO:+0100
TZNAME:CET
DTSTART:20261025T010000
END:STANDARD
END:VTIMEZONE
BEGIN:VEVENT
DTSTART;TZID=Europe/Rome:20250708T190000
DTEND;TZID=Europe/Rome:20250708T203000
DTSTAMP:20260421T172856
CREATED:20250630T092435Z
LAST-MODIFIED:20250630T092453Z
UID:9991-1752001200-1752006600@www.agimus.it
SUMMARY:"InCanto d'Estate 2025"  HOLY BLUES
DESCRIPTION:InCanto d’Estate 2025\nI concerti Estivi di A.Gi.Mus Firenze\n \nHOLY BLUES\nMusicisti e predicatori del sud degli Stati Uniti\nMatteo Pancrazi  Chitarra e voce\nDaniele Guerrini  Armonica\n \nUn viaggio nel Blues della tradizione\n\n\n\n\n\nOrganizzatore:\n\n\n\nLuogo:
URL:https://www.agimus.it/evento/incanto-destate-2025-holy-blues/
LOCATION:Giardino di Villa Pozzolini\, Viale Alessandro Guidoni\, 188\, Firenze\, FI\, 50127\, Italia
CATEGORIES:2 musicisti
ATTACH;FMTTYPE=image/png:https://www.agimus.it/wp-content/uploads/2025/06/4.-8.07-720x900-1.png
END:VEVENT
BEGIN:VEVENT
DTSTART;TZID=Europe/Rome:20250708T210000
DTEND;TZID=Europe/Rome:20250708T220000
DTSTAMP:20260421T172856
CREATED:20250704T082012Z
LAST-MODIFIED:20250704T082031Z
UID:10014-1752008400-1752012000@www.agimus.it
SUMMARY:CORO DA CAMERA FEMINILE "Angelica" (U.S.A.)
DESCRIPTION:Musica dal Mondo – XXVI Edizione \nFestival Internazionale dei Cori e delle Orchestre Giovanili \n \nCORO DA CAMERA FEMINILE\n“Angelica” (New York – USA)\nMarie Caruso  Direttore\n \nPolifonia sacra e profana\n\n\n\nLuogo:
URL:https://www.agimus.it/evento/coro-da-camera-feminile-angelica-u-s-a/
LOCATION:Palazzo dei Priori\, Piazza IV Novembre\, Perugia\, PG\, 06123\, Italia
CATEGORIES:Ensemble
ATTACH;FMTTYPE=image/jpeg:https://www.agimus.it/wp-content/uploads/2025/07/LOC-8-LUGLIO-1-scaled.jpg
END:VEVENT
BEGIN:VEVENT
DTSTART;TZID=Europe/Rome:20250708T213000
DTEND;TZID=Europe/Rome:20250708T223000
DTSTAMP:20260421T172856
CREATED:20250702T143419Z
LAST-MODIFIED:20250702T143446Z
UID:10008-1752010200-1752013800@www.agimus.it
SUMMARY:NOTE AL CHIARO DI LUNA
DESCRIPTION:NOTE AL CHIARO DI LUNA \n“Sulle orme di…San Guglielmo” \n \nJole Canelli   Voce\nLeonardo Marcucci   Chitarra\nM° Gloria Mazzi   Direzione artistica\n \n \n\n\n\n\n\nOrganizzatore:\n\n\n\nLuogo:
URL:https://www.agimus.it/evento/note-al-chiaro-di-luna/
LOCATION:Museo Casa Rossa Ximenes\, Via Casa Rossa Ximenes\,\, Castiglione della Pescaia\, GR\, 58043\, Italia
CATEGORIES:4 musicisti
ORGANIZER;CN="Sezione di Grosseto":MAILTO:gloriamazzi74@gmail.com
END:VEVENT
END:VCALENDAR