BEGIN:VCALENDAR
VERSION:2.0
PRODID:-//A.Gi.Mus. - Associazione Giovanile Musicale - ECPv6.15.11//NONSGML v1.0//EN
CALSCALE:GREGORIAN
METHOD:PUBLISH
X-ORIGINAL-URL:https://www.agimus.it
X-WR-CALDESC:Eventi per A.Gi.Mus. - Associazione Giovanile Musicale
REFRESH-INTERVAL;VALUE=DURATION:PT1H
X-Robots-Tag:noindex
X-PUBLISHED-TTL:PT1H
BEGIN:VTIMEZONE
TZID:Europe/Rome
BEGIN:DAYLIGHT
TZOFFSETFROM:+0100
TZOFFSETTO:+0200
TZNAME:CEST
DTSTART:20240331T010000
END:DAYLIGHT
BEGIN:STANDARD
TZOFFSETFROM:+0200
TZOFFSETTO:+0100
TZNAME:CET
DTSTART:20241027T010000
END:STANDARD
BEGIN:DAYLIGHT
TZOFFSETFROM:+0100
TZOFFSETTO:+0200
TZNAME:CEST
DTSTART:20250330T010000
END:DAYLIGHT
BEGIN:STANDARD
TZOFFSETFROM:+0200
TZOFFSETTO:+0100
TZNAME:CET
DTSTART:20251026T010000
END:STANDARD
BEGIN:DAYLIGHT
TZOFFSETFROM:+0100
TZOFFSETTO:+0200
TZNAME:CEST
DTSTART:20260329T010000
END:DAYLIGHT
BEGIN:STANDARD
TZOFFSETFROM:+0200
TZOFFSETTO:+0100
TZNAME:CET
DTSTART:20261025T010000
END:STANDARD
END:VTIMEZONE
BEGIN:VEVENT
DTSTART;TZID=Europe/Rome:20250706T153000
DTEND;TZID=Europe/Rome:20250706T180000
DTSTAMP:20260421T105033
CREATED:20250705T114222Z
LAST-MODIFIED:20250705T114241Z
UID:10031-1751815800-1751824800@www.agimus.it
SUMMARY:"PERUSIA HARMONICA 2025"  Concerto dei Vincitori del Concorso Musicale Internazionale
DESCRIPTION:LA GRANDE MUSICA AL BORGO\nVIII Stagione concertistica 2025\n \nConcerto dei Vincitori del Concorso Musicale Internazionale \n“Perusia Harmonica 2025”\n \nMaria Grazia Pittavini direzione artisticaIntroduce Simona Esposito\n \nore 15:30 Premiazione dei vincitori del Concorsoore 17:00 Concerto\n\n\n\nLuogo:
URL:https://www.agimus.it/evento/perusia-harmonica-2025-concerto-dei-vincitori-del-concorso-musicale-internazionale/
LOCATION:Chiesa di Sant’Antonio Abate\, Corso Bersaglieri\, 176\, Perugia\, PG\, 06122\, Italia
CATEGORIES:Ensemble
ATTACH;FMTTYPE=image/jpeg:https://www.agimus.it/wp-content/uploads/2025/07/Locandina-2025.07.06-WEB.jpg
END:VEVENT
BEGIN:VEVENT
DTSTART;TZID=Europe/Rome:20250706T170000
DTEND;TZID=Europe/Rome:20250706T180000
DTSTAMP:20260421T105033
CREATED:20250704T091345Z
LAST-MODIFIED:20250704T104901Z
UID:10024-1751821200-1751824800@www.agimus.it
SUMMARY:ITINERARI CAMERISTICI - Hommage a Francis Poulenc
DESCRIPTION:Itinerari Cameristici 2025\nHommage a Francis Poulenc\n\n\n\n\n\n\n\n\n\nOrganizzatore:\n\n\n\nLuogo:
URL:https://www.agimus.it/evento/itinerari-cameristici-hommage-a-francis-poulenc/
LOCATION:Museo Nazionale Strumenti Musicali\, Piazza di S. Croce in Gerusalemme\, 9/a\, Roma\, RM\, 00185\, Italia
ATTACH;FMTTYPE=image/png:https://www.agimus.it/wp-content/uploads/2025/07/roma-6-7-MNSM.png
END:VEVENT
BEGIN:VEVENT
DTSTART;TZID=Europe/Rome:20250706T173000
DTEND;TZID=Europe/Rome:20250706T183000
DTSTAMP:20260421T105033
CREATED:20250702T141125Z
LAST-MODIFIED:20250702T141722Z
UID:10003-1751823000-1751826600@www.agimus.it
SUMMARY:CONCERTO  PER VIOLA DA GAMBA
DESCRIPTION:CONCERTO \n“Per Viola da Gamba”\n \n\nPaolo Leoncini   Viola da Gamba\n \n \nMusiche di  K.F. Abel\,  J.S. Bach\, M. Marais\n\n\n\n\n\n\nOrganizzatore:\n\n\n\nLuogo:
URL:https://www.agimus.it/evento/concerto-per-viola-da-gamba/
LOCATION:Chiesa di San Biagio\, Piazza Vittorio Emanuele III\, 7\, Sant'Oreste\, RM\, 00060\, Italia
CATEGORIES:2 musicisti
ATTACH;FMTTYPE=image/jpeg:https://www.agimus.it/wp-content/uploads/2025/07/WhatsApp-Image-2025-07-02-at-14.59.44.jpeg
END:VEVENT
BEGIN:VEVENT
DTSTART;TZID=Europe/Rome:20250706T180000
DTEND;TZID=Europe/Rome:20250706T193000
DTSTAMP:20260421T105033
CREATED:20250630T081638Z
LAST-MODIFIED:20250703T092902Z
UID:9971-1751824800-1751830200@www.agimus.it
SUMMARY:TEO TRONICO & PROSSEDA "Musica di Mare"
DESCRIPTION:“MUSICA DI MARE” \nQuarta edizione \n \nDuello tra pianista robot e umano\nTEO TRONICO & PROSSEDA \nGloria Mazzi  Direzione artistica\n \n\n\n\n\n\nOrganizzatore:\n\n\n\nLuogo:
URL:https://www.agimus.it/evento/teo-tronico-prosseda-musica-di-mare/
LOCATION:Piazza Solti – Castiglione della Pescaia\, Piazza G. Solti\, Castiglione della Pescaia\, GR\, 58043\, Italia
CATEGORIES:1 musicista
ATTACH;FMTTYPE=image/png:https://www.agimus.it/wp-content/uploads/2025/06/Capture-decran-2025-07-03-a-11.05.19.png
ORGANIZER;CN="Sezione di Grosseto":MAILTO:gloriamazzi74@gmail.com
END:VEVENT
END:VCALENDAR