BEGIN:VCALENDAR
VERSION:2.0
PRODID:-//A.Gi.Mus. - Associazione Giovanile Musicale - ECPv6.15.11//NONSGML v1.0//EN
CALSCALE:GREGORIAN
METHOD:PUBLISH
X-WR-CALNAME:A.Gi.Mus. - Associazione Giovanile Musicale
X-ORIGINAL-URL:https://www.agimus.it
X-WR-CALDESC:Eventi per A.Gi.Mus. - Associazione Giovanile Musicale
REFRESH-INTERVAL;VALUE=DURATION:PT1H
X-Robots-Tag:noindex
X-PUBLISHED-TTL:PT1H
BEGIN:VTIMEZONE
TZID:Europe/Rome
BEGIN:DAYLIGHT
TZOFFSETFROM:+0100
TZOFFSETTO:+0200
TZNAME:CEST
DTSTART:20240331T010000
END:DAYLIGHT
BEGIN:STANDARD
TZOFFSETFROM:+0200
TZOFFSETTO:+0100
TZNAME:CET
DTSTART:20241027T010000
END:STANDARD
BEGIN:DAYLIGHT
TZOFFSETFROM:+0100
TZOFFSETTO:+0200
TZNAME:CEST
DTSTART:20250330T010000
END:DAYLIGHT
BEGIN:STANDARD
TZOFFSETFROM:+0200
TZOFFSETTO:+0100
TZNAME:CET
DTSTART:20251026T010000
END:STANDARD
BEGIN:DAYLIGHT
TZOFFSETFROM:+0100
TZOFFSETTO:+0200
TZNAME:CEST
DTSTART:20260329T010000
END:DAYLIGHT
BEGIN:STANDARD
TZOFFSETFROM:+0200
TZOFFSETTO:+0100
TZNAME:CET
DTSTART:20261025T010000
END:STANDARD
END:VTIMEZONE
BEGIN:VEVENT
DTSTART;TZID=Europe/Rome:20250703T180000
DTEND;TZID=Europe/Rome:20250703T190000
DTSTAMP:20260421T121217
CREATED:20250630T085953Z
LAST-MODIFIED:20250630T105116Z
UID:9982-1751565600-1751569200@www.agimus.it
SUMMARY:"Giovedì sotto le stelle" DUO LATINAMERICANDO
DESCRIPTION:Apertura eccezionale in orario serale del Museo Civico d’Arte – Palazzo Ricchieri per 3 appuntamenti:\nTra arte\, musica e un calice in mano\n“Giovedì sotto le stelle”\n \nDUO LATINAMERICANDO\n\nRoberto Cilona   Flauto\nMassimo Aureli   Chitarra\n \n\n\n\n\n\n\nOrganizzatore:\n\n\n\nLuogo:
URL:https://www.agimus.it/evento/giovedi-sotto-le-stelle-duo-latinamericando/
LOCATION:Museo Civico d’Arte-Palazzo Ricchieri – Pordenone\, Corso Vittorio Emanuele II\, 51\, Pordenone\, PN\, 33170\, Italy
CATEGORIES:2 musicisti
ATTACH;FMTTYPE=image/jpeg:https://www.agimus.it/wp-content/uploads/2025/06/PHOTO-2025-06-30-12-34-46-1.jpg
END:VEVENT
BEGIN:VEVENT
DTSTART;TZID=Europe/Rome:20250703T213000
DTEND;TZID=Europe/Rome:20250703T223000
DTSTAMP:20260421T121217
CREATED:20250630T083143Z
LAST-MODIFIED:20250630T083940Z
UID:9976-1751578200-1751581800@www.agimus.it
SUMMARY:NOTE AL CHIARO DI LUNA   "Quartetto Zenit"
DESCRIPTION:NOTE AL CHIARO DI LUNA \n“Sulle orme di…San Guglielmo” \n \nQUARTETTO ZENIT \nBeatrice Chiavacci e Gabriele Gardini  Violini\nMichelangelo Chiavacci  Viola\nMarta  Iannaccone  Violoncello\nM° Gloria Mazzi  Direttore artistico\n\n \n\n \n \n\n\n\n\n\nOrganizzatore:\n\n\n\nLuogo:
URL:https://www.agimus.it/evento/note-al-chiaro-di-luna-quartetto-zenit/
LOCATION:Museo Casa Rossa Ximenes\, Via Casa Rossa Ximenes\,\, Castiglione della Pescaia\, GR\, 58043\, Italia
CATEGORIES:4 musicisti
ORGANIZER;CN="Sezione di Grosseto":MAILTO:gloriamazzi74@gmail.com
END:VEVENT
END:VCALENDAR