BEGIN:VCALENDAR
VERSION:2.0
PRODID:-//A.Gi.Mus. - Associazione Giovanile Musicale - ECPv6.15.11//NONSGML v1.0//EN
CALSCALE:GREGORIAN
METHOD:PUBLISH
X-ORIGINAL-URL:https://www.agimus.it
X-WR-CALDESC:Eventi per A.Gi.Mus. - Associazione Giovanile Musicale
REFRESH-INTERVAL;VALUE=DURATION:PT1H
X-Robots-Tag:noindex
X-PUBLISHED-TTL:PT1H
BEGIN:VTIMEZONE
TZID:Europe/Rome
BEGIN:DAYLIGHT
TZOFFSETFROM:+0100
TZOFFSETTO:+0200
TZNAME:CEST
DTSTART:20240331T010000
END:DAYLIGHT
BEGIN:STANDARD
TZOFFSETFROM:+0200
TZOFFSETTO:+0100
TZNAME:CET
DTSTART:20241027T010000
END:STANDARD
BEGIN:DAYLIGHT
TZOFFSETFROM:+0100
TZOFFSETTO:+0200
TZNAME:CEST
DTSTART:20250330T010000
END:DAYLIGHT
BEGIN:STANDARD
TZOFFSETFROM:+0200
TZOFFSETTO:+0100
TZNAME:CET
DTSTART:20251026T010000
END:STANDARD
BEGIN:DAYLIGHT
TZOFFSETFROM:+0100
TZOFFSETTO:+0200
TZNAME:CEST
DTSTART:20260329T010000
END:DAYLIGHT
BEGIN:STANDARD
TZOFFSETFROM:+0200
TZOFFSETTO:+0100
TZNAME:CET
DTSTART:20261025T010000
END:STANDARD
END:VTIMEZONE
BEGIN:VEVENT
DTSTART;TZID=Europe/Rome:20250628T100000
DTEND;TZID=Europe/Rome:20250628T110000
DTSTAMP:20260419T223950
CREATED:20250625T105211Z
LAST-MODIFIED:20250626T081842Z
UID:9923-1751104800-1751108400@www.agimus.it
SUMMARY:RASSEGNA "Musica in prospettiva"  alla Galleria Spada
DESCRIPTION:RASSEGNA  “Musica in Prospettiva”\n \nCONCERTO\n“Se l’Aura Spira”\nTrio di Flauti dolci del Conservatorio di Sion – Svizzera\n \nMusiche per flauto dolce del barocco europeo\n\n\n \n\n\n\n\n\n\nOrganizzatore:\n\n\n\nLuogo:
URL:https://www.agimus.it/evento/rassegna-musica-in-prospettiva-alla-galleria-spada/
LOCATION:Galleria Spada\, Piazza Capo di Ferro\, 13\, Roma\, RM\, 00186\, Italy
CATEGORIES:3 musicisti
END:VEVENT
BEGIN:VEVENT
DTSTART;TZID=Europe/Rome:20250628T180000
DTEND;TZID=Europe/Rome:20250628T190000
DTSTAMP:20260419T223950
CREATED:20250625T105758Z
LAST-MODIFIED:20250625T105817Z
UID:9929-1751133600-1751137200@www.agimus.it
SUMMARY:I VIRTUOSI DI SANT'AGNESE IN AGONE  "Vivaldi"
DESCRIPTION:“VIVALDI”\n \nLisa Francese  Pianoforte\nMarco Algenti  Violoncello\nMatteo Vicari  Guida all’ascolto\n \n \n\n\n\n\n\nOrganizzatore:\n\n\n\nLuogo:
URL:https://www.agimus.it/evento/i-virtuosi-di-santagnese-in-agone-vivaldi-30/
LOCATION:Sant’Agnese in Agone – Sagrestia del Borromini\, Via di Santa Maria dell'Anima\, 30/A\, Roma\, RM\, 00186
CATEGORIES:4 musicisti
ATTACH;FMTTYPE=image/jpeg:https://www.agimus.it/wp-content/uploads/2024/10/01-Vivaldi.jpg
END:VEVENT
END:VCALENDAR