BEGIN:VCALENDAR
VERSION:2.0
PRODID:-//A.Gi.Mus. - Associazione Giovanile Musicale - ECPv6.15.11//NONSGML v1.0//EN
CALSCALE:GREGORIAN
METHOD:PUBLISH
X-WR-CALNAME:A.Gi.Mus. - Associazione Giovanile Musicale
X-ORIGINAL-URL:https://www.agimus.it
X-WR-CALDESC:Eventi per A.Gi.Mus. - Associazione Giovanile Musicale
REFRESH-INTERVAL;VALUE=DURATION:PT1H
X-Robots-Tag:noindex
X-PUBLISHED-TTL:PT1H
BEGIN:VTIMEZONE
TZID:Europe/Rome
BEGIN:DAYLIGHT
TZOFFSETFROM:+0100
TZOFFSETTO:+0200
TZNAME:CEST
DTSTART:20240331T010000
END:DAYLIGHT
BEGIN:STANDARD
TZOFFSETFROM:+0200
TZOFFSETTO:+0100
TZNAME:CET
DTSTART:20241027T010000
END:STANDARD
BEGIN:DAYLIGHT
TZOFFSETFROM:+0100
TZOFFSETTO:+0200
TZNAME:CEST
DTSTART:20250330T010000
END:DAYLIGHT
BEGIN:STANDARD
TZOFFSETFROM:+0200
TZOFFSETTO:+0100
TZNAME:CET
DTSTART:20251026T010000
END:STANDARD
BEGIN:DAYLIGHT
TZOFFSETFROM:+0100
TZOFFSETTO:+0200
TZNAME:CEST
DTSTART:20260329T010000
END:DAYLIGHT
BEGIN:STANDARD
TZOFFSETFROM:+0200
TZOFFSETTO:+0100
TZNAME:CET
DTSTART:20261025T010000
END:STANDARD
END:VTIMEZONE
BEGIN:VEVENT
DTSTART;TZID=Europe/Rome:20250622T150000
DTEND;TZID=Europe/Rome:20250622T200000
DTSTAMP:20260419T223641
CREATED:20250611T101624Z
LAST-MODIFIED:20250611T101642Z
UID:9856-1750604400-1750622400@www.agimus.it
SUMMARY:FESTA DELLA MUSICA "SOLstizio a suon di NOTE - Domenica 22 giugno
DESCRIPTION:“FESTA DELLA MUSICA” Domenica 22 giugno\nSOLstizio a suon di NOTE \n \nore 15:00: Piazza Libertà\nCANTI E BALLI DELLA TRADIZIONE POPOLARE LOMBARDA\nGruppo Folklorico Firlinfeu “La Brianzola”\ndi Olgiate Molgora (Lecco)\n \nore 16:30: Chiesa S. Appollinare\nGUITAR FOREVER\nStorytelling e concerto\nGiovanni Parimbelli Chitarra\n \n ore 18:00: Cortile Palazzo Filanda\nSALOTTO STORICO PARTENOPEO\nMefitis Quartet\nTiziana Lobosco   Mezzo-soprano\nValeria Veltro   Contralto\nVita Cisullo   Violino\nGaetano Agoglia  Chitarra\n\n\n\n\n\nOrganizzatore:\n\n\n\nLuogo:
URL:https://www.agimus.it/evento/festa-della-musica-solstizio-a-suon-di-note-domenica-22-giugno/
LOCATION:Chiesa di Sant’Apollinare – Cornaredo\, Piazza della Libertà\, Cornaredo\, MI\, 20007\, Italy
CATEGORIES:3 musicisti
ATTACH;FMTTYPE=image/png:https://www.agimus.it/wp-content/uploads/2025/06/Manifesto-definitivo.png
END:VEVENT
END:VCALENDAR