BEGIN:VCALENDAR
VERSION:2.0
PRODID:-//A.Gi.Mus. - Associazione Giovanile Musicale - ECPv6.15.11//NONSGML v1.0//EN
CALSCALE:GREGORIAN
METHOD:PUBLISH
X-ORIGINAL-URL:https://www.agimus.it
X-WR-CALDESC:Eventi per A.Gi.Mus. - Associazione Giovanile Musicale
REFRESH-INTERVAL;VALUE=DURATION:PT1H
X-Robots-Tag:noindex
X-PUBLISHED-TTL:PT1H
BEGIN:VTIMEZONE
TZID:Europe/Rome
BEGIN:DAYLIGHT
TZOFFSETFROM:+0100
TZOFFSETTO:+0200
TZNAME:CEST
DTSTART:20240331T010000
END:DAYLIGHT
BEGIN:STANDARD
TZOFFSETFROM:+0200
TZOFFSETTO:+0100
TZNAME:CET
DTSTART:20241027T010000
END:STANDARD
BEGIN:DAYLIGHT
TZOFFSETFROM:+0100
TZOFFSETTO:+0200
TZNAME:CEST
DTSTART:20250330T010000
END:DAYLIGHT
BEGIN:STANDARD
TZOFFSETFROM:+0200
TZOFFSETTO:+0100
TZNAME:CET
DTSTART:20251026T010000
END:STANDARD
BEGIN:DAYLIGHT
TZOFFSETFROM:+0100
TZOFFSETTO:+0200
TZNAME:CEST
DTSTART:20260329T010000
END:DAYLIGHT
BEGIN:STANDARD
TZOFFSETFROM:+0200
TZOFFSETTO:+0100
TZNAME:CET
DTSTART:20261025T010000
END:STANDARD
END:VTIMEZONE
BEGIN:VEVENT
DTSTART;TZID=Europe/Rome:20250620T173000
DTEND;TZID=Europe/Rome:20250620T190000
DTSTAMP:20260419T224032
CREATED:20250616T095506Z
LAST-MODIFIED:20250617T135535Z
UID:9897-1750440600-1750446000@www.agimus.it
SUMMARY:CONCERTO PER LA PACE   Giorno della 31° edizione della Festa Europea della Musica
DESCRIPTION:CONCERTO PER LA PACE \n31° Edizione della Festa Europea della Musica \n \n\n\n\n\n\nOrganizzatore:\n\n\n\nLuogo:
URL:https://www.agimus.it/evento/concerto-per-la-pace-il-giorno-della-festa-europea-della-musica/
LOCATION:Museo Nazionale Strumenti Musicali\, Piazza di S. Croce in Gerusalemme\, 9/a\, Roma\, RM\, 00185\, Italia
CATEGORIES:2 musicisti
ATTACH;FMTTYPE=image/jpeg:https://www.agimus.it/wp-content/uploads/2025/06/PHOTO-2025-06-17-14-25-33.jpg
END:VEVENT
BEGIN:VEVENT
DTSTART;TZID=Europe/Rome:20250620T180000
DTEND;TZID=Europe/Rome:20250620T190000
DTSTAMP:20260419T224032
CREATED:20250613T093454Z
LAST-MODIFIED:20250613T093512Z
UID:9884-1750442400-1750446000@www.agimus.it
SUMMARY:I VIRTUOSI DI SANT'AGNESE IN AGONE ""BEETHOVEN IN DUO"
DESCRIPTION:“BEETHOVEN IN DUO”\n \nLisa Francese Pianoforte\nMarco Algenti Violoncello\nMatteo Vicari  Guida all’ascolto\n \nMusiche di R. Schumann\, L. van Beethoven\n\n\n\n\n\nOrganizzatore:\n\n\n\nLuogo:
URL:https://www.agimus.it/evento/i-virtuosi-di-santagnese-in-agone-beethoven-in-duo-2/
LOCATION:Sant’Agnese in Agone – Sagrestia del Borromini\, Via di Santa Maria dell'Anima\, 30/A\, Roma\, RM\, 00186
CATEGORIES:2 musicisti
ATTACH;FMTTYPE=image/jpeg:https://www.agimus.it/wp-content/uploads/2025/06/images-1.jpg
END:VEVENT
BEGIN:VEVENT
DTSTART;TZID=Europe/Rome:20250620T180000
DTEND;TZID=Europe/Rome:20250620T193000
DTSTAMP:20260419T224032
CREATED:20250619T202634Z
LAST-MODIFIED:20250619T202655Z
UID:9903-1750442400-1750447800@www.agimus.it
SUMMARY:CONCERTO IN OCCASIONE DEL CONVEGNO NAZIONALE DELL'AULL
DESCRIPTION:CONCERTO IN OCCASIONE DEL CONVEGNO NAZIONALE DELL’AULL\nAssociazione Umbra per lo studio e la terapia delle Leucemie e Linfomi OVD\n \nENSEMBLE VOCALE QUINTESSENZA ITALIANA\nNicoletta Ricciarelli  Soprano\nOriana Baldassarri  Mezzosoprano\nMilena Regali  Contralto\nMauro Banda  Tenore\nMoreno Illicini  Basso\nFrancesco Branda  Chitarra acustica\nEnrico Busani  Percussioni\nMauro Branda  Direzione artistica  \n \nCanti della tradizione popolare del centro e sud Italia\nOrganizzatore:\n\n\n\nLuogo:
URL:https://www.agimus.it/evento/concerto-in-occasione-del-convegno-nazionale-dellaull-2/
LOCATION:Aula Magna Università per Stranieri\, Piazza Braccio Fortebraccio\, 4\, Perugia\, PG\, 06123\, Italia
CATEGORIES:Ensemble
END:VEVENT
BEGIN:VEVENT
DTSTART;TZID=Europe/Rome:20250620T183000
DTEND;TZID=Europe/Rome:20250620T193000
DTSTAMP:20260419T224032
CREATED:20250519T140246Z
LAST-MODIFIED:20250519T140308Z
UID:9645-1750444200-1750447800@www.agimus.it
SUMMARY:MUSIC AT VILLA CARLOTTA  "Sunsets in music / Tramonti in Musica"
DESCRIPTION:MUSIC AT VILLA CARLOTTA \nSunsets in music / Tramonti in Musica \n\n \nFrom Classical to Samba\nViolino e Chitarra\nCarmelo Bisignano  &  Massimo Cantoro\n \n\n\n\n\n\n\nOrganizzatore:\n\n\n\nLuogo:
URL:https://www.agimus.it/evento/music-at-villa-carlotta-sunsets-in-music-tramonti-in-musica-3/
LOCATION:Villa Carlotta – Tremezzina\, Via Regina\, 2\, Tremezzina\, CO\, 22016\, Italia
CATEGORIES:2 musicisti
ATTACH;FMTTYPE=image/jpeg:https://www.agimus.it/wp-content/uploads/2025/05/Lombardia-giugno.jpg
END:VEVENT
BEGIN:VEVENT
DTSTART;TZID=Europe/Rome:20250620T213000
DTEND;TZID=Europe/Rome:20250620T230000
DTSTAMP:20260419T224032
CREATED:20250611T110345Z
LAST-MODIFIED:20250611T111359Z
UID:9861-1750455000-1750460400@www.agimus.it
SUMMARY:FESTA DELLA MUSICA  2025 AL FARA NUME
DESCRIPTION:“FESTA DELLA MUSICA 2025” AL FARA NUME \nCon il Giovane Ensemble del Lido e Gli Studenti dell’IC VEGA \n \nProf.sse \nAnnamaria Salpietro e Iolanda Zignani\n\n\n\n\n\nOrganizzatore:\n\n\n\nLuogo:
URL:https://www.agimus.it/evento/festa-della-musica-2025-al-fara-nume/
LOCATION:Teatro Fara Nume – Ostia Lido\, Via Domenico Baffigo\, 161\, Ostia Lido\, Roma\, 00121\, Italia
CATEGORIES:1 musicista
ATTACH;FMTTYPE=image/jpeg:https://www.agimus.it/wp-content/uploads/2025/06/Roma-20-06.jpg
END:VEVENT
END:VCALENDAR