BEGIN:VCALENDAR
VERSION:2.0
PRODID:-//A.Gi.Mus. - Associazione Giovanile Musicale - ECPv6.15.11//NONSGML v1.0//EN
CALSCALE:GREGORIAN
METHOD:PUBLISH
X-ORIGINAL-URL:https://www.agimus.it
X-WR-CALDESC:Eventi per A.Gi.Mus. - Associazione Giovanile Musicale
REFRESH-INTERVAL;VALUE=DURATION:PT1H
X-Robots-Tag:noindex
X-PUBLISHED-TTL:PT1H
BEGIN:VTIMEZONE
TZID:Europe/Rome
BEGIN:DAYLIGHT
TZOFFSETFROM:+0100
TZOFFSETTO:+0200
TZNAME:CEST
DTSTART:20240331T010000
END:DAYLIGHT
BEGIN:STANDARD
TZOFFSETFROM:+0200
TZOFFSETTO:+0100
TZNAME:CET
DTSTART:20241027T010000
END:STANDARD
BEGIN:DAYLIGHT
TZOFFSETFROM:+0100
TZOFFSETTO:+0200
TZNAME:CEST
DTSTART:20250330T010000
END:DAYLIGHT
BEGIN:STANDARD
TZOFFSETFROM:+0200
TZOFFSETTO:+0100
TZNAME:CET
DTSTART:20251026T010000
END:STANDARD
BEGIN:DAYLIGHT
TZOFFSETFROM:+0100
TZOFFSETTO:+0200
TZNAME:CEST
DTSTART:20260329T010000
END:DAYLIGHT
BEGIN:STANDARD
TZOFFSETFROM:+0200
TZOFFSETTO:+0100
TZNAME:CET
DTSTART:20261025T010000
END:STANDARD
END:VTIMEZONE
BEGIN:VEVENT
DTSTART;TZID=Europe/Rome:20250618T180000
DTEND;TZID=Europe/Rome:20250618T190000
DTSTAMP:20260421T103311
CREATED:20250613T091107Z
LAST-MODIFIED:20250613T091127Z
UID:9874-1750269600-1750273200@www.agimus.it
SUMMARY:I VIRTUOSI DI SANT'AGNESE IN AGONE  "Opera"
DESCRIPTION:“OPERA”\n\nLisa Francese  Pianoforte\nMarco Algenti  Violoncello\nAdriano Gentili  Tenore\nMarco Arbusti  Pianoforte\nMatteo Vicari  Guida all’ascolto\n Musiche di G. Puccini\, G. Verdi\, G. Rossini \n\n\n\n\n\n\nOrganizzatore:\n\n\n\nLuogo:
URL:https://www.agimus.it/evento/i-virtuosi-di-santagnese-in-agone-opera-27/
LOCATION:Sant’Agnese in Agone – Sagrestia del Borromini\, Via di Santa Maria dell'Anima\, 30/A\, Roma\, RM\, 00186
CATEGORIES:3 musicisti
ATTACH;FMTTYPE=image/jpeg:https://www.agimus.it/wp-content/uploads/2024/11/opera-new.jpg
END:VEVENT
BEGIN:VEVENT
DTSTART;TZID=Europe/Rome:20250618T203000
DTEND;TZID=Europe/Rome:20250618T220000
DTSTAMP:20260421T103311
CREATED:20250613T092458Z
LAST-MODIFIED:20250613T092951Z
UID:9877-1750278600-1750284000@www.agimus.it
SUMMARY:CONCERTI IN CORTILE - Vino & Musica 2025
DESCRIPTION:CONCERTI IN CORTILE – Vino & Musica 2025\n \n“Il Flauto  Magico”\nAndra Montefoschi   Flauto\nRiccardo Bonaccini   Violino\nGianfranco Borrelli   Viola\nAnna Armatys  Violoncello\n \n \n\n\n\n\n\nOrganizzatore:\n\n\n\nLuogo:
URL:https://www.agimus.it/evento/concerti-in-cortile/
LOCATION:Palazzo Capponi Antonelli – Roma\, Via di Monserrato\, 34\,\, Roma\, RM\, 00186\, Italia
CATEGORIES:4 musicisti
ATTACH;FMTTYPE=image/jpeg:https://www.agimus.it/wp-content/uploads/2025/06/Roma-urbis-luglio.jpeg
END:VEVENT
END:VCALENDAR