BEGIN:VCALENDAR
VERSION:2.0
PRODID:-//A.Gi.Mus. - Associazione Giovanile Musicale - ECPv6.15.11//NONSGML v1.0//EN
CALSCALE:GREGORIAN
METHOD:PUBLISH
X-WR-CALNAME:A.Gi.Mus. - Associazione Giovanile Musicale
X-ORIGINAL-URL:https://www.agimus.it
X-WR-CALDESC:Eventi per A.Gi.Mus. - Associazione Giovanile Musicale
REFRESH-INTERVAL;VALUE=DURATION:PT1H
X-Robots-Tag:noindex
X-PUBLISHED-TTL:PT1H
BEGIN:VTIMEZONE
TZID:Europe/Rome
BEGIN:DAYLIGHT
TZOFFSETFROM:+0100
TZOFFSETTO:+0200
TZNAME:CEST
DTSTART:20240331T010000
END:DAYLIGHT
BEGIN:STANDARD
TZOFFSETFROM:+0200
TZOFFSETTO:+0100
TZNAME:CET
DTSTART:20241027T010000
END:STANDARD
BEGIN:DAYLIGHT
TZOFFSETFROM:+0100
TZOFFSETTO:+0200
TZNAME:CEST
DTSTART:20250330T010000
END:DAYLIGHT
BEGIN:STANDARD
TZOFFSETFROM:+0200
TZOFFSETTO:+0100
TZNAME:CET
DTSTART:20251026T010000
END:STANDARD
BEGIN:DAYLIGHT
TZOFFSETFROM:+0100
TZOFFSETTO:+0200
TZNAME:CEST
DTSTART:20260329T010000
END:DAYLIGHT
BEGIN:STANDARD
TZOFFSETFROM:+0200
TZOFFSETTO:+0100
TZNAME:CET
DTSTART:20261025T010000
END:STANDARD
END:VTIMEZONE
BEGIN:VEVENT
DTSTART;TZID=Europe/Rome:20250615T180000
DTEND;TZID=Europe/Rome:20250615T190000
DTSTAMP:20260421T122601
CREATED:20250612T083559Z
LAST-MODIFIED:20250612T083619Z
UID:9865-1750010400-1750014000@www.agimus.it
SUMMARY:ENSEMBLE  ISPANTOS
DESCRIPTION:LA GRANDE MUSICA AL BORGO\nVIII Stagione concertistica 2025\n \nEnsemble Ispantos\nStefania Onidi  Voce\nSergio Pasquandrea Pianoforte\nEdoardo Antolini  Contrabbasso\, basso elettrico\nGiovanni Baldassarri  Percussioni\n \nMusiche latino-americane\n\n\n\nLuogo:
URL:https://www.agimus.it/evento/ensemble-ispantos/
LOCATION:Chiesa di Sant’Antonio Abate\, Corso Bersaglieri\, 176\, Perugia\, PG\, 06122\, Italia
CATEGORIES:Ensemble
ATTACH;FMTTYPE=image/jpeg:https://www.agimus.it/wp-content/uploads/2025/06/Locandina-2025.06.15-WEB.jpg
END:VEVENT
END:VCALENDAR