BEGIN:VCALENDAR
VERSION:2.0
PRODID:-//A.Gi.Mus. - Associazione Giovanile Musicale - ECPv6.15.11//NONSGML v1.0//EN
CALSCALE:GREGORIAN
METHOD:PUBLISH
X-WR-CALNAME:A.Gi.Mus. - Associazione Giovanile Musicale
X-ORIGINAL-URL:https://www.agimus.it
X-WR-CALDESC:Eventi per A.Gi.Mus. - Associazione Giovanile Musicale
REFRESH-INTERVAL;VALUE=DURATION:PT1H
X-Robots-Tag:noindex
X-PUBLISHED-TTL:PT1H
BEGIN:VTIMEZONE
TZID:Europe/Rome
BEGIN:DAYLIGHT
TZOFFSETFROM:+0100
TZOFFSETTO:+0200
TZNAME:CEST
DTSTART:20240331T010000
END:DAYLIGHT
BEGIN:STANDARD
TZOFFSETFROM:+0200
TZOFFSETTO:+0100
TZNAME:CET
DTSTART:20241027T010000
END:STANDARD
BEGIN:DAYLIGHT
TZOFFSETFROM:+0100
TZOFFSETTO:+0200
TZNAME:CEST
DTSTART:20250330T010000
END:DAYLIGHT
BEGIN:STANDARD
TZOFFSETFROM:+0200
TZOFFSETTO:+0100
TZNAME:CET
DTSTART:20251026T010000
END:STANDARD
BEGIN:DAYLIGHT
TZOFFSETFROM:+0100
TZOFFSETTO:+0200
TZNAME:CEST
DTSTART:20260329T010000
END:DAYLIGHT
BEGIN:STANDARD
TZOFFSETFROM:+0200
TZOFFSETTO:+0100
TZNAME:CET
DTSTART:20261025T010000
END:STANDARD
END:VTIMEZONE
BEGIN:VEVENT
DTSTART;TZID=Europe/Rome:20250607T173000
DTEND;TZID=Europe/Rome:20250607T183000
DTSTAMP:20260419T223729
CREATED:20250526T083315Z
LAST-MODIFIED:20250526T083335Z
UID:9706-1749317400-1749321000@www.agimus.it
SUMMARY:DUO PIANISTICO In ricordo di Tullio Macoggi
DESCRIPTION:In ricordo di Tullio Macoggi\nDUO PIANISTICO\nGiuseppe Pelli  e  Stefano Ragni Negri  \n \nMusiche di G. Donizetti\, W.A. Mozart\, L. v. Beethoven F. Schubert\, E. Grieg\n\n\n\n\n\nOrganizzatore:\n\n\n\nLuogo:
URL:https://www.agimus.it/evento/duo-pianistico-in-ricordo-di-tullio-macoggi/
LOCATION:Palazzo Albrizzi\, Cannaregio 4118\, Venezia\, VE\, 30121\, Italia
CATEGORIES:1 musicista
ATTACH;FMTTYPE=image/jpeg:https://www.agimus.it/wp-content/uploads/2025/05/Venezia-07-06.jpeg
END:VEVENT
BEGIN:VEVENT
DTSTART;TZID=Europe/Rome:20250607T180000
DTEND;TZID=Europe/Rome:20250607T190000
DTSTAMP:20260419T223729
CREATED:20250529T091439Z
LAST-MODIFIED:20250529T091458Z
UID:9762-1749319200-1749322800@www.agimus.it
SUMMARY:I VIRTUOSI DI SANT'AGNESE IN AGONE  "Vivaldi"
DESCRIPTION:“VIVALDI”\n \nLisa Francese  Pianoforte\nMarco Algenti  Violoncello\nMatteo Vicari  Guida all’ascolto\n \n \n\n\n\n\n\nOrganizzatore:\n\n\n\nLuogo:
URL:https://www.agimus.it/evento/i-virtuosi-di-santagnese-in-agone-vivaldi-28/
LOCATION:Sant’Agnese in Agone – Sagrestia del Borromini\, Via di Santa Maria dell'Anima\, 30/A\, Roma\, RM\, 00186
CATEGORIES:4 musicisti
ATTACH;FMTTYPE=image/jpeg:https://www.agimus.it/wp-content/uploads/2024/10/01-Vivaldi.jpg
END:VEVENT
END:VCALENDAR