BEGIN:VCALENDAR
VERSION:2.0
PRODID:-//A.Gi.Mus. - Associazione Giovanile Musicale - ECPv6.15.11//NONSGML v1.0//EN
CALSCALE:GREGORIAN
METHOD:PUBLISH
X-ORIGINAL-URL:https://www.agimus.it
X-WR-CALDESC:Eventi per A.Gi.Mus. - Associazione Giovanile Musicale
REFRESH-INTERVAL;VALUE=DURATION:PT1H
X-Robots-Tag:noindex
X-PUBLISHED-TTL:PT1H
BEGIN:VTIMEZONE
TZID:Europe/Rome
BEGIN:DAYLIGHT
TZOFFSETFROM:+0100
TZOFFSETTO:+0200
TZNAME:CEST
DTSTART:20240331T010000
END:DAYLIGHT
BEGIN:STANDARD
TZOFFSETFROM:+0200
TZOFFSETTO:+0100
TZNAME:CET
DTSTART:20241027T010000
END:STANDARD
BEGIN:DAYLIGHT
TZOFFSETFROM:+0100
TZOFFSETTO:+0200
TZNAME:CEST
DTSTART:20250330T010000
END:DAYLIGHT
BEGIN:STANDARD
TZOFFSETFROM:+0200
TZOFFSETTO:+0100
TZNAME:CET
DTSTART:20251026T010000
END:STANDARD
BEGIN:DAYLIGHT
TZOFFSETFROM:+0100
TZOFFSETTO:+0200
TZNAME:CEST
DTSTART:20260329T010000
END:DAYLIGHT
BEGIN:STANDARD
TZOFFSETFROM:+0200
TZOFFSETTO:+0100
TZNAME:CET
DTSTART:20261025T010000
END:STANDARD
END:VTIMEZONE
BEGIN:VEVENT
DTSTART;TZID=Europe/Rome:20250604T180000
DTEND;TZID=Europe/Rome:20250604T190000
DTSTAMP:20260421T121331
CREATED:20250529T091233Z
LAST-MODIFIED:20250529T091254Z
UID:9763-1749060000-1749063600@www.agimus.it
SUMMARY:I VIRTUOSI DI SANT'AGNESE IN AGONE  "Opera"
DESCRIPTION:“OPERA”\n\nLisa Francese  Pianoforte\nMarco Algenti  Violoncello\nAdriano Gentili  Tenore\nMarco Arbusti  Pianoforte\nMatteo Vicari  Guida all’ascolto\n Musiche di G. Puccini\, G. Verdi\, G. Rossini \n\n\n\n\n\n\nOrganizzatore:\n\n\n\nLuogo:
URL:https://www.agimus.it/evento/i-virtuosi-di-santagnese-in-agone-opera-26/
LOCATION:Sant’Agnese in Agone – Sagrestia del Borromini\, Via di Santa Maria dell'Anima\, 30/A\, Roma\, RM\, 00186
CATEGORIES:3 musicisti
ATTACH;FMTTYPE=image/jpeg:https://www.agimus.it/wp-content/uploads/2024/11/opera-new.jpg
END:VEVENT
BEGIN:VEVENT
DTSTART;TZID=Europe/Rome:20250604T211500
DTEND;TZID=Europe/Rome:20250604T230000
DTSTAMP:20260421T121331
CREATED:20250527T101002Z
LAST-MODIFIED:20250527T101023Z
UID:9736-1749071700-1749078000@www.agimus.it
SUMMARY:GIOVANI TALENTI & GRANDI MAESTRI "SOUND OF TODAY"
DESCRIPTION:GIOVANI TALENTI & GRANDI MAESTRI\n \n“Sound of Today” \nEleonora Strino  Chitarra\nStefano Cocco Cantini  Sassofono\nGabriele Milani  Tromba\nEmanuele Ferrone  Pianoforte\nLuca Tonini  Contrabbasso\nAlessandro Chiavoni  Batteria\n \n \n \n \n\n\n\n\n\nOrganizzatore:\n\n\n\nLuogo:
URL:https://www.agimus.it/evento/giovani-talenti-grandi-maestri-sound-of-today/
LOCATION:Carabinieri Ufficio Territoriale per la Biodiversità Follonica\, Via Bicocchi\, 2\, Follonica\, GR\, 58022\, Italia
CATEGORIES:2 musicisti
ATTACH;FMTTYPE=image/jpeg:https://www.agimus.it/wp-content/uploads/2025/05/Grosseto-04-06-3.jpg
ORGANIZER;CN="Sezione di Grosseto":MAILTO:gloriamazzi74@gmail.com
END:VEVENT
END:VCALENDAR