BEGIN:VCALENDAR
VERSION:2.0
PRODID:-//A.Gi.Mus. - Associazione Giovanile Musicale - ECPv6.15.11//NONSGML v1.0//EN
CALSCALE:GREGORIAN
METHOD:PUBLISH
X-WR-CALNAME:A.Gi.Mus. - Associazione Giovanile Musicale
X-ORIGINAL-URL:https://www.agimus.it
X-WR-CALDESC:Eventi per A.Gi.Mus. - Associazione Giovanile Musicale
REFRESH-INTERVAL;VALUE=DURATION:PT1H
X-Robots-Tag:noindex
X-PUBLISHED-TTL:PT1H
BEGIN:VTIMEZONE
TZID:Europe/Rome
BEGIN:DAYLIGHT
TZOFFSETFROM:+0100
TZOFFSETTO:+0200
TZNAME:CEST
DTSTART:20240331T010000
END:DAYLIGHT
BEGIN:STANDARD
TZOFFSETFROM:+0200
TZOFFSETTO:+0100
TZNAME:CET
DTSTART:20241027T010000
END:STANDARD
BEGIN:DAYLIGHT
TZOFFSETFROM:+0100
TZOFFSETTO:+0200
TZNAME:CEST
DTSTART:20250330T010000
END:DAYLIGHT
BEGIN:STANDARD
TZOFFSETFROM:+0200
TZOFFSETTO:+0100
TZNAME:CET
DTSTART:20251026T010000
END:STANDARD
BEGIN:DAYLIGHT
TZOFFSETFROM:+0100
TZOFFSETTO:+0200
TZNAME:CEST
DTSTART:20260329T010000
END:DAYLIGHT
BEGIN:STANDARD
TZOFFSETFROM:+0200
TZOFFSETTO:+0100
TZNAME:CET
DTSTART:20261025T010000
END:STANDARD
END:VTIMEZONE
BEGIN:VEVENT
DTSTART;TZID=Europe/Rome:20250603T170000
DTEND;TZID=Europe/Rome:20250603T180000
DTSTAMP:20260421T122351
CREATED:20250519T131138Z
LAST-MODIFIED:20250519T131157Z
UID:9631-1748970000-1748973600@www.agimus.it
SUMMARY:ITINERARI 2025 DI PITTURA E MUSICA Galleria Spada
DESCRIPTION:ITINERARI DI PITTURA E MUSICA alla GALLERIA SPADA\nConcerto: Ritratti di Gentildonne in Pittura e Musica nei sec. XVII-XVIII\n \nEnrico Casularo   Flauto traversiere\nEdoardo Balsetti  Tiorba\nKinga Sadzinska  Viola da gamba\n \n\n\n \n\n\n\n\n\n\n\n\n\n\nOrganizzatore:\n\n\n\nLuogo:
URL:https://www.agimus.it/evento/itinerari-2025-di-pittura-e-musica-galleria-spada-3/
LOCATION:Galleria Spada\, Piazza Capo di Ferro\, 13\, Roma\, RM\, 00186\, Italy
CATEGORIES:3 musicisti
ATTACH;FMTTYPE=image/png:https://www.agimus.it/wp-content/uploads/2025/05/ROMA-3-6-.png
END:VEVENT
BEGIN:VEVENT
DTSTART;TZID=Europe/Rome:20250603T180000
DTEND;TZID=Europe/Rome:20250603T190000
DTSTAMP:20260421T122351
CREATED:20250529T091037Z
LAST-MODIFIED:20250529T091106Z
UID:9764-1748973600-1748977200@www.agimus.it
SUMMARY:I VIRTUOSI DI SANT'AGNESE IN AGONE  "Le grandi Sinfonie"
DESCRIPTION:“LE GRANDI SINFONIE” \nLisa Francese  Pianoforte\nMarco Algenti  Violoncello\nMatteo Vicari  Guida all’ascolto\nMusiche di W.A. Mozart e L. van Beethoven \n\n\n\n\n\nOrganizzatore:\n\n\n\nLuogo:
URL:https://www.agimus.it/evento/i-virtuosi-di-santagnese-in-agone-le-grandi-sinfonie-21/
LOCATION:Sant’Agnese in Agone – Sagrestia del Borromini\, Via di Santa Maria dell'Anima\, 30/A\, Roma\, RM\, 00186
CATEGORIES:3 musicisti
ATTACH;FMTTYPE=image/png:https://www.agimus.it/wp-content/uploads/2024/10/sinfo-new.png
END:VEVENT
END:VCALENDAR