BEGIN:VCALENDAR
VERSION:2.0
PRODID:-//A.Gi.Mus. - Associazione Giovanile Musicale - ECPv6.15.11//NONSGML v1.0//EN
CALSCALE:GREGORIAN
METHOD:PUBLISH
X-WR-CALNAME:A.Gi.Mus. - Associazione Giovanile Musicale
X-ORIGINAL-URL:https://www.agimus.it
X-WR-CALDESC:Eventi per A.Gi.Mus. - Associazione Giovanile Musicale
REFRESH-INTERVAL;VALUE=DURATION:PT1H
X-Robots-Tag:noindex
X-PUBLISHED-TTL:PT1H
BEGIN:VTIMEZONE
TZID:Europe/Rome
BEGIN:DAYLIGHT
TZOFFSETFROM:+0100
TZOFFSETTO:+0200
TZNAME:CEST
DTSTART:20240331T010000
END:DAYLIGHT
BEGIN:STANDARD
TZOFFSETFROM:+0200
TZOFFSETTO:+0100
TZNAME:CET
DTSTART:20241027T010000
END:STANDARD
BEGIN:DAYLIGHT
TZOFFSETFROM:+0100
TZOFFSETTO:+0200
TZNAME:CEST
DTSTART:20250330T010000
END:DAYLIGHT
BEGIN:STANDARD
TZOFFSETFROM:+0200
TZOFFSETTO:+0100
TZNAME:CET
DTSTART:20251026T010000
END:STANDARD
BEGIN:DAYLIGHT
TZOFFSETFROM:+0100
TZOFFSETTO:+0200
TZNAME:CEST
DTSTART:20260329T010000
END:DAYLIGHT
BEGIN:STANDARD
TZOFFSETFROM:+0200
TZOFFSETTO:+0100
TZNAME:CET
DTSTART:20261025T010000
END:STANDARD
END:VTIMEZONE
BEGIN:VEVENT
DTSTART;TZID=Europe/Rome:20250601T160000
DTEND;TZID=Europe/Rome:20250601T170000
DTSTAMP:20260419T191849
CREATED:20250531T123542Z
LAST-MODIFIED:20250531T123601Z
UID:9782-1748793600-1748797200@www.agimus.it
SUMMARY:LEZIONE-CONCERTO  "Vita e Amore di donna fra favola e realtà"
DESCRIPTION:ITINERARI CAMERISTICI AL MUSEO NAZIONALE DEGLI STRUMENTI MUSICALI\n\n \nLEZIONE-CONCERTO\n“Vita e Amore di donna fra favola e realtà”\nPianoforte\nMarco Grisanti  e  Antonella Frabotta \n \n \n \n \n \n\n\n\n\n\nOrganizzatore:\n\n\n\nLuogo:
URL:https://www.agimus.it/evento/lezione-concerto-vita-e-amore-di-donna-fra-favola-e-realta/
LOCATION:Museo Nazionale Strumenti Musicali\, Piazza di S. Croce in Gerusalemme\, 9/a\, Roma\, RM\, 00185\, Italia
CATEGORIES:1 musicista
ATTACH;FMTTYPE=image/png:https://www.agimus.it/wp-content/uploads/2025/05/Capture-decran-2025-05-31-a-14.26.44.png
END:VEVENT
END:VCALENDAR